Workbook
Name \X: #REF!
Name ____________________MDE09: [1]Peralatan!$BO$187
Name ____________________MDE10: [1]Peralatan!$BO$207
Name ____________________MDE11: [1]Peralatan!$BO$227
Name ____________________MDE25: [1]Peralatan!$BO$507
Name ____________________ME09: [1]Peralatan!$BO$186
Name ____________________ME10: [1]Peralatan!$BO$206
Name ____________________ME11: [1]Peralatan!$BO$226
Name ____________________ME25: [1]Peralatan!$BO$506
Name ___________________MDE01: [1]Peralatan!$BO$27
Name ___________________MDE02: [1]Peralatan!$BO$47
Name ___________________MDE03: [1]Peralatan!$BO$67
Name ___________________MDE04: [1]Peralatan!$BO$87
Name ___________________MDE05: [1]Peralatan!$BO$107
Name ___________________MDE06: [1]Peralatan!$BO$127
Name ___________________MDE07: [1]Peralatan!$BO$147
Name ___________________MDE08: [1]Peralatan!$BO$167
Name ___________________MDE09: [1]Peralatan!$BO$187
Name ___________________MDE10: [1]Peralatan!$BO$207
Name ___________________MDE11: [1]Peralatan!$BO$227
Name ___________________MDE13: [1]Peralatan!$BO$267
Name ___________________MDE14: [1]Peralatan!$BO$287
Name ___________________MDE15: [1]Peralatan!$BO$307
Name ___________________MDE16: [1]Peralatan!$BO$327
Name ___________________MDE17: [1]Peralatan!$BO$347
Name ___________________MDE18: [1]Peralatan!$BO$367
Name ___________________MDE19: [1]Peralatan!$BO$387
Name ___________________MDE20: [1]Peralatan!$BO$407
Name ___________________MDE21: [1]Peralatan!$BO$427
Name ___________________MDE22: [1]Peralatan!$BO$447
Name ___________________MDE23: [1]Peralatan!$BO$467
Name ___________________MDE24: [1]Peralatan!$BO$487
Name ___________________MDE25: [1]Peralatan!$BO$507
Name ___________________MDE27: [1]Peralatan!$BO$547
Name ___________________MDE28: [1]Peralatan!$BO$567
Name ___________________MDE29: [1]Peralatan!$BO$587
Name ___________________MDE30: [1]Peralatan!$BO$607
Name ___________________MDE31: [1]Peralatan!$BO$627
Name ___________________MDE32: [1]Peralatan!$BO$647
Name ___________________MDE33: [1]Peralatan!$BO$667
Name ___________________MDE34: [1]Peralatan!$BO$698
Name ___________________ME01: [1]Peralatan!$BO$26
Name ___________________ME02: [1]Peralatan!$BO$46
Name ___________________ME03: [1]Peralatan!$BO$66
Name ___________________ME04: [1]Peralatan!$BO$86
Name ___________________ME05: [1]Peralatan!$BO$106
Name ___________________ME06: [1]Peralatan!$BO$126
Name ___________________ME07: [1]Peralatan!$BO$146
Name ___________________ME08: [1]Peralatan!$BO$166
Name ___________________ME09: [1]Peralatan!$BO$186
Name ___________________ME10: [1]Peralatan!$BO$206
Name ___________________ME11: [1]Peralatan!$BO$226
Name ___________________ME13: [1]Peralatan!$BO$266
Name ___________________ME14: [1]Peralatan!$BO$286
Name ___________________ME15: [1]Peralatan!$BO$306
Name ___________________ME16: [1]Peralatan!$BO$326
Name ___________________ME17: [1]Peralatan!$BO$346
Name ___________________ME18: [1]Peralatan!$BO$366
Name ___________________ME19: [1]Peralatan!$BO$386
Name ___________________ME20: [1]Peralatan!$BO$406

Sheet NERACA
A1: BADAN USAHA MILIK DESA BUMDesa SEJAHTERA
A2: NERACA BUMDESA
A3: TANGGAL, 31 AGUSTUS 2026
A8: AKTIVA | F8: PASSIVA
A9: 1. | B9: HARTA | F9: 2. | G9: HUTANG
A10: 1.1 | B10: Kas | F10: 2.1 | G10: PADes | H10: =SUM(REKAP!F68) -> 15050178
A11: 1.1.1 | B11: Kas Umum | F11: 2.2 | G11: Penguatan modal | H11: =SUM(REKAP!G68) -> 4013380.9
A12: 1.1.2 | B12: Kas Harian | E12: =SUM(KASHAR!W174) -> 51053772 | F12: 2.3 | G12: Cadangan | H12: =SUM(REKAP!H68) -> 1003345.2
B13: Total Kas | E13: =SUM(E11:E12) -> 51053772 | G13: Jumlah | H13: =SUM(H10:H12) -> 20066904
F14: 3. | G14: MODAL
A15: 1.2 | B15: Bank | F15: 3.1 | G15: Penguatan modal dari SHU
A16: 1.2.1 | B16: Bank BRI | E16: 55562530 | F16: 3.1.1 | G16: SHU 2017 | H16: 1186803
A17: 1.2.2 | B17: Bank BPD | E17: 549503 | F17: 3.1.2 | G17: SHU 2018 | H17: 4659495 | J17: =[45]REKAP!$F$75 -> 0
B18: Total Bank | E18: =SUM(E16:E17) -> 56112033 | F18: 3.1.3 | G18: SHU 2019 | H18: 12940985 | J18: =E16-J17 -> 55562530
F19: 3.1.4 | G19: SHU 2020 | H19: 29810954
A20: 1.3 | B20: Inventaris | D20: =SUM('[48]INVEN (2)'!$G$187) -> 310608000 | F20: 3.1.5 | G20: SHU 2021 | H20: 31861941
A21: 1.3.1 | B21: Akumulasi Penyusutan | D21: =SUM(INVENTARIS!R195) -> 63046783 | F21: 3.1.6 | G21: SHU 2022 | H21: 31326534
A22: 1.3.2 | B22: Nilai Buku | E22: =SUM(INVENTARIS!R196) -> 2.4756122e+08 | F22: 3.1.7 | G22: SHU 2023 | H22: 40014708
F23: 3.1.8 | G23: SHU 2024 | H23: 26027431
F24: 3.1.0 | G24: SHU 2025 | H24: 29437299
G25: Jumlah | H25: =SUM(H16:H24) -> 207266150
A26: 1.4 | B26: Alokasi ke Unit Usaha | F26: 3.2 | G26: Penyertaan Modal
A27: 1.4.1 | B27: Modal Usaha (Piutang) Syariah | E27: =SUM(MODUS!J160) -> 617812062 | F27: 3.2.1 | G27: Dari APBD Barru 2013-2014 | H27: 30000000
A28: 1.4.2 | B28: Investasi Gas | E28: 61950250 | F28: 3.2.2 | G28: Dari Dana Desa 2017 | H28: 98340000 | I28: =E27+E30 -> 932761499 | J28: 20190000
A29: 1.4.3 | B29: Investasi Perikanan | E29: =SUM(14073208+396000-175000) -> 14294208 | F29: 3.2.3 | G29: Dari Dana Desa 2018 | H29: 130000000 | J29: =E31-J28 -> 42310000
A30: 1.4.4 | B30: Piutang Multi Finance | E30: =SUM(MULTI!P57) -> 314949437 | F30: 3.2.4 | G30: Dari Dana Desa 2019 | H30: 220232350 | J30: 5690000 | K30: 38890000
A31: 1.4.5 | B31: Unit Usaha BRI Link | E31: 62500000 | F31: 3.2.5 | G31: Dari Dana Desa 2020 | H31: 46905500 | J31: =K30+J30 -> 44580000
A32: 1.4.6 | B32: Usaha Jasa dan Distribusi Barang | E32: =SUM(KASHAR!R174) -> 409000 | F32: 3.2.6 | G32: Dari Dana Desa 2022 | H32: 135766650 | J32: 1940549
A33: 1.4.7 | B33: Investasi Ketahanan Pangan | E33: =SUM(KASHAR!Q174) -> 234492900 | F33: 3.2.7 | G33: Dari Dana Desa 2023 | H33: 200000000
A34: 1.4.8 | B34: Toko Alat Bengkel | E34: 55000000 | F34: 3.2.8 | G34: Dari Dana Desa 2024 | H34: 220000000 | J34: =E31-1500000 -> 61000000
A35: 1.4.9 | B35: Dana Pelatihan Pengurus BUMDes | E35: 3500000 | F35: 3.2.9 | G35: Ketahanan Pangan 2025 | H35: 343500000
F36: 3.2.10 | G36: Ketahanan Pangan 2026 | H36: 55000000 | I36: =SUM(H28:H36) -> 1449744500
A37: 1.4.10 | B37: Piutang Sementara | E37: =SUM(KASHAR!S174) -> 63177675 | F37: 3.2.11 | G37: Dari Kemendes 2023 | H37: 75000000 | I37: =SUM(H28:H35) -> 1394744500
B38: Jumlah | E38: =SUM(E27:E37) -> 1.4280855e+09 | F38: 3.2.12 | G38: Tabungan Masyarakat | H38: 735000
G39: Jumlah | H39: =SUM(H27:H38) -> 1555479500
F40: 3.2.13 | G40: Surplus ditahan | H40: =SUM('RL JAN-DES'!C35) -> 20066904
F41: 3.2.14 | G41: Surplus berjalan | J41: =SUM(E31+I44) -> 62500000
A43: TOTAL AKTIVA | E43: =SUM(E13+E18+E21+E22+E38) -> 1.7828126e+09 | F43: JUMLAH | H43: =SUM(H25+H39+H40) -> 1.7828126e+09 | I43: =E11+I44 -> 0.083333254
H44: Batupute, 31 Agustus 2026 | I44: =H43-E43 -> 0.083333254 | K44: =E11-I47 -> 0.083333254
A45: PENGURUS BUMDes SEJAHTERA
...

Sheet RUGI LABA 
A1: BADAN USAHA MILIK DESA BUMDesa SEJAHTERA
A2: RUGI LABA BUMDESA SEJAHTERA
A3: BULAN AGUSTUS 2026
A4: Desa/Kecamatan | C4: : Batupute Kec.Soppeng Riaja
A5: Kabupaten | C5: : Barru
A6: Provinsi | C6: : Sulsel
A7: 4 | B7: PENDAPATAN | C7: LABA/RUGI
A8: 4.1 | B8: Pendapatan Operasional
A9: 4.1.1 | B9: Unit Usaha Piutang Syariah | C9: =SUM(MODUS!H160) -> 7191890
A10: 4.1.2 | B10: Unit Usaha Penjualan Gas | C10: =SUM(KASHAR!F174) -> 800000
A11: 4.1.3 | B11: Unit Usaha Penjualan Alat-alat Prikanan
A12: 4.1.4 | B12: BRILINK | C12: =SUM(BRILink!E16) -> 3144870
A13: 4.1.5 | B13: Multiguna Finance | C13: =SUM(MULTI!N57) -> 7987627
A14: 4.1.6 | B14: Pengadaan Barang & Jasa | C14: =SUM(KASHAR!G174) -> 280000
A15: 4.1.7 | B15: Ketahanan Pangan | C15: =SUM(KASHAR!I174) -> 0
A16: 4.1.8 | B16: Toko Bengkel | C16: =SUM('TOKO BENGKEL'!N103) -> 362404
A17: 4.2 | B17: Pendapatan Non Ops
A18: 4.2.1 | B18: Bunga Bank
A19: 4.2.2 | B19: Pendapatan Lain-lain
A21: TOTAL PENDAPATAN ( KOTOR) | C21: =SUM(C8:C20) -> 19766791
A22: 5 | B22: BIAYA-BIAYA
A23: 5.1.1 | B23: Gaji Pengurus | C23: 7850000
A24: 5.1.2 | B24: Gaji Penasehat | C24: 1600000
A25: 5.1.3 | B25: Gaji Pengawas | C25: 1100000
A26: 5.1.4 | B26: Biaya Operasional | C26: =SUM(KASHAR!T174) -> 4120000 | F26: =C23+C24+C25+C2+C26+C27+C28+C30+C31 -> 18880217
A27: 5.1.5 | B27: Kegiatan Sosial
A28: 5.1.6 | B28: Beban Penyusutan | C28: =SUM(INVENTARIS!R194) -> 4210216.7
A29: 6. | B29: Biaya OPS
A30: 6.1.1 | B30: Pajak
A31: 6.1.2 | B31: Tunjangan Kerja
A32: 7 | B32: Biaya Lain-Lain
A33: 7.1 | B33: Studi Banding
A34: LABA BERSIH BUMDes | C34: =C21-C23-C24-C25-C26-C27-C28-C30-C31 -> 886574.33
C35: Batupute, 31 AGUSTUS 2026
A36: PENGURUS BUMDes SEJAHTERA
A37: DESA BATUPUTE KEC.SOPPENG RIAJA KAB.BARRU
A39: DIREKTUR | C39: BENDAHARA
A44: WAWAN DARMAWAN | C44: IRMA ALISA, ST

Sheet RL JAN-DES
A2: BADAN USAHA MILIK DESA BUMDesa SEJAHTERA
A3: RUGI LABA BUMDESA
A4: BULAN JANUARI S / D DESEMBER 2026
A5: Desa/Kecamatan | C5: : Batupute Kec.Soppeng Riaja
A6: Kabupaten | C6: : Barru
A7: Provinsi | C7: : Sulsel
A8: 4 | B8: PENDAPATAN | C8: LABA/RUGI
A9: 4.1 | B9: Pendapatan Operasional | G9: JANUARI | H9: FEBRUARI | I9: Maret | J9: april | K9: MEI | L9: juni | M9: Juli | N9: Agustus | O9: September | P9: Oktober | Q9: November | R9: desember
A10: 4.1.1 | B10: Unit Piutang Syariah | C10: =F10+G10+H10+I10+J10+K10+L10+M10+N10+O10+P10+Q10+R10 -> 59950721 | G10: =SUM('[49]RUGI LABA '!$C$9) -> 8815913 | H10: =SUM('[50]RUGI LABA '!$C$9) -> 7794055 | I10: =SUM('[51]RUGI LABA '!$C$9) -> 7005396 | J10: =SUM('[52]RUGI LABA '!$C$9) -> 7404097 | K10: =SUM('[53]RUGI LABA '!$C$9) -> 6592431 | L10: =SUM('[54]RUGI LABA '!$C$9) -> 7836460 | M10: =SUM('[57]RUGI LABA '!$C$9) -> 7310479 | N10: =SUM('RUGI LABA '!C9) -> 7191890
A11: 4.1.2 | B11: Investasi Gas Penjualan Gas | C11: =F11+G11+H11+I11+J11+K11+L11+M11+N11+O11+P11+Q11+R11 -> 6400000 | G11: =SUM('[49]RUGI LABA '!$C$10) -> 800000 | H11: =SUM('[50]RUGI LABA '!$C$10) -> 800000 | I11: =SUM('[51]RUGI LABA '!$C$10) -> 800000 | J11: =SUM('[52]RUGI LABA '!$C$10) -> 800000 | K11: =SUM('[53]RUGI LABA '!$C$10) -> 800000 | L11: 800000 | M11: =SUM('[57]RUGI LABA '!$C$10) -> 800000 | N11: 800000
A12: 4.1.3 | B12: Unit Usaha Penjualan Alat-alat Prikanan | C12: =SUM(G12:R12) -> 225000 | G12: =SUM('[49]RUGI LABA '!$C$11) -> 195000 | H12: =SUM('[50]RUGI LABA '!$C$11) -> 30000
A13: 4.1.4 | B13: Investasi BRILINK | C13: =SUM(G13+H13+I13+J13+K13+L13+M13+N13+O13+P13+Q13+R13) -> 28521806 | G13: =SUM('[49]RUGI LABA '!$C$12) -> 3403256 | H13: =SUM('[50]RUGI LABA '!$C$12) -> 4175520 | I13: =SUM('[51]RUGI LABA '!$C$12) -> 2957700 | J13: =SUM('[52]RUGI LABA '!$C$12) -> 4162140 | K13: =SUM('[53]RUGI LABA '!$C$12) -> 4614400 | L13: =SUM('[54]RUGI LABA '!$C$12) -> 2596470 | M13: =SUM('[57]RUGI LABA '!$C$12) -> 3467450 | N13: =SUM('RUGI LABA '!C12) -> 3144870
A14: 4.1.5 | B14: Piutang Multiguna Finance | C14: =F14+G14+H14+I14+J14+K14+L14+M14+N14+O14+P14+Q14+R14 -> 37455612 | G14: =SUM('[49]RUGI LABA '!$C$13) -> 3631205 | H14: =SUM('[50]RUGI LABA '!$C$13) -> 3306497 | I14: =SUM('[51]RUGI LABA '!$C$13) -> 4016780 | J14: =SUM('[52]RUGI LABA '!$C$13) -> 7447000 | K14: =SUM('[53]RUGI LABA '!$C$13) -> 3984169 | L14: =SUM('[54]RUGI LABA '!$C$13) -> 3541666 | M14: =SUM('[57]RUGI LABA '!$C$13) -> 3540668 | N14: =SUM('RUGI LABA '!C13) -> 7987627
A15: 4.1.6 | B15: Pengadaan Barang & Jasa | C15: =G15+H15+I15+J15+K15+L15+M15+N15+O15+P15+Q15+R15 -> 10104000 | I15: =SUM('[51]RUGI LABA '!$C$14) -> 2675000 | J15: =SUM('[52]RUGI LABA '!$C$14) -> 2500000 | L15: =SUM('[54]RUGI LABA '!$C$14) -> 2739000 | M15: =SUM('[57]RUGI LABA '!$C$14) -> 1910000 | N15: =SUM('RUGI LABA '!C14) -> 280000
A16: 4.1.7 | B16: Ketahanan Pangan | C16: =SUM(K16+L16+M16) -> 11702600 | K16: =SUM('[53]RUGI LABA '!$C$15) -> 11702600
A17: 4.1.8 | B17: Toko Bengkel | C17: =SUM(G17:R17) -> 2866815 | G17: =SUM('[49]RUGI LABA '!$C$16) -> 232302 | H17: =SUM('[50]RUGI LABA '!$C$16) -> 226450 | I17: =SUM('[51]RUGI LABA '!$C$16) -> 378000 | J17: =SUM('[52]RUGI LABA '!$C$16) -> 387240 | K17: =SUM('[53]RUGI LABA '!$C$16) -> 380282 | L17: =SUM('[54]RUGI LABA '!$C$16) -> 402234 | M17: =SUM('[57]RUGI LABA '!$C$16) -> 497903 | N17: =SUM('RUGI LABA '!C16) -> 362404
A18: 4.2 | B18: Pendapatan Non Ops
A19: 4.2.1 | B19: Bunga Bank
A20: 4.2.2 | B20: Pendapatan Lain-lain | C20: =F20+G20+H20+I20+J20 -> 0
A22: TOTAL PENDAPATAN ( KOTOR) | C22: =SUM(C10:C20) -> 157226554
A23: 5 | B23: BIAYA-BIAYA
A24: 5.1.1 | B24: Gaji Pengurus | C24: =SUM(G24+H24+I24+J24+K24+L24+M24+N24+O24+P24+Q24+R24) -> 62800000 | G24: =SUM('[49]RUGI LABA '!$C$23) -> 7850000 | H24: 7850000 | I24: 7850000 | J24: 7850000 | K24: 7850000 | L24: 7850000 | M24: 7850000 | N24: 7850000
A25: 5.1.3 | B25: Gaji Penasehat | C25: =F25+G25+H25+I25+J25+K25+L25+M25+N25+O25+P25+Q25+R25 -> 12800000 | G25: =SUM('[49]RUGI LABA '!$C$24) -> 1600000 | H25: 1600000 | I25: 1600000 | J25: 1600000 | K25: 1600000 | L25: 1600000 | M25: 1600000 | N25: 1600000
A26: 5.1.4 | B26: Gaji Pengawas | C26: =F26+G26+H26+I26+J26+K26+L26+M26+N26+O26+P26+Q26+R26 -> 8800000 | G26: =SUM('[49]RUGI LABA '!$C$25) -> 1100000 | H26: 1100000 | I26: 1100000 | J26: 1100000 | K26: 1100000 | L26: 1100000 | M26: 1100000 | N26: 1100000
A27: 5.1.5 | B27: Biaya Operasional | C27: =SUM(G27+H27+I27+J27+K27+L27+M27+N27+O27+P27+Q27+R27) -> 14910000 | G27: =SUM('[49]RUGI LABA '!$C$26) -> 1345000 | H27: =SUM('[50]RUGI LABA '!$C$26) -> 650000 | I27: =SUM('[51]RUGI LABA '!$C$26) -> 1575000 | J27: =SUM('[52]RUGI LABA '!$C$26) -> 1890000 | K27: =SUM('[53]RUGI LABA '!$C$26) -> 1950000 | L27: =SUM('[54]RUGI LABA '!$C$26) -> 1200000 | M27: =SUM('[57]RUGI LABA '!$C$26) -> 2180000 | N27: =SUM('RUGI LABA '!C26) -> 4120000
A28: 5.1.6 | B28: Kegiatan Sosial ( Safari Ramadhan ) | C28: =G28+H28+I28+J28 -> 2500000 | E28: =SUM(C24:C32) -> 1.3715965e+08 | J28: 2500000
A29: 5.1.7 | B29: Beban Penyusutan | C29: =SUM(G29+H29+I29+J29+K29+L29+M29+N29+O29+P29+Q29+R29) -> 34349650 | G29: =SUM('[49]RUGI LABA '!$C$28) -> 4281633.3 | H29: =SUM('[50]RUGI LABA '!$C$28) -> 4281633.3 | I29: =SUM('[51]RUGI LABA '!$C$28) -> 4281633 | J29: =SUM('[52]RUGI LABA '!$C$28) -> 4281633.3 | K29: =SUM('[53]RUGI LABA '!$C$28) -> 4361633.3 | L29: =SUM('[54]RUGI LABA '!$C$28) -> 4391050 | M29: =SUM('[57]RUGI LABA '!$C$28) -> 4260216.7 | N29: =SUM('RUGI LABA '!C28) -> 4210216.7 | S29: =SUM(G29:P29) -> 34349650
A30: 6. | B30: Biaya OPS
A31: 6.1.1 | B31: Pajak Penghasilan | C31: =SUM(G31+H31+I31+M31) -> 0
A32: 6.1.2 | B32: Tunjangan Kerja | C32: =SUM(J32:Q32) -> 1000000 | J32: 500000 | K32: 500000
A33: 7 | B33: Bayar Gas Hilang | D33: =C24+C25+C26 -> 84400000 | E33: =C22-D33 -> 72826554
A34: 7.1 | B34: Studi Banding | D34: 63
A35: LABA BERSIH BUMDes | C35: =C22-C24-C25-C26-C27-C28-C29-C31-C32 -> 20066904
C36: Batupute, 31 AGUSTUS 2026
A37: PENGURUS BUMDes SEJAHTERA
A38: DESA BATUPUTE KEC.SOPPENG RIAJA KAB.BARRU
A40: DIREKTUR | C40: BENDAHARA
A44: WAWAN DARMAWAN | C44: IRMA ALISA, ST

Sheet KASHAR
A1: BADAN USAHA MILIK DESA BUMDesa SEJAHTERA
A2: KAS HARIAN BULAN AGUSTUS 2026
A3: Desa | B3: : Batupute Kec.Soppeng Riaja
A4: Kab | B4: : Barru
A5: Prov | B5: : Sulsel
A6: TANGGAL | B6: URAIAN | C6: PEMASUKAN | N6: PENGELUARAN | W6: KAS HARIAN
C7: PIUTANG SYARI'AH | D7: MULTI FINANCE | E7: BRILink | F7: GAS ELPIJI | G7: BARANG DAN JASA | H7: TOKO NELAYAN | I7: KETAHANAN PANGAN | J7: TOKO BENGKEL | K7: BIAYA LAIN-LAIN | L7: TABUNGAN MASYARAKAT | M7: JUMLAH | N7: PIUTANG SYARI'AH | O7: MULTI FINANCE | P7: BRILink | Q7: KETAHANAN PANGAN | R7: BARANG DAN JASA | S7: PIUTANG SEMENTARA | T7: BIAYA OPERASIONAL | U7: BIAYA-BIAYA | V7: JUMLAH
A8: 1-07-2026 | B8: SALDO AKHIR BULAN JULI | W8: =SUM([57]KASHAR!$W$199) -> 21333240
B9: Pipa Saluran air ujunge | M9: =SUM(C9:L9) -> 0 | R9: 219000 | W9: =SUM(M9-V9) -> 0
B10: Materai belum laku | M10: =SUM(C10:L10) -> 0 | R10: 40000 | W10: =SUM(M10-V10) -> 0
B11: Materai | R11: 150000
B12: Mantanaince bor air | Q12: =SUM('Mantanaice bor air'!G34) -> 18072000 | W12: =SUM(M12-V12) -> 0
B13: Pestisida | Q13: =SUM([49]KASHAR!$Q$12) -> 4070000 | W13: =SUM(M13-V13) -> 0
B14: Sisa dana bor air | Q14: =SUM(Sheet1!E5) -> 120000000 | W14: =SUM(M14-V14) -> 0 | X14: Sisa bor air | Y14: =Q14 -> 120000000
B15: TAHAP KEDUA GALUNG JAMPU | Q15: =SUM('PENG. GALUNG JAMPU TAHAP KE 2'!I56) -> 2531600 | W15: =SUM(M15-V15) -> 0
B16: TAHAP KEDUA LOMPO E TAHAP KEDUA | Q16: =SUM('PENG. LOMPO E TAHAP KE (2)'!I44) -> 5132500
B17: Tambahan Pestisida | Q17: =SUM([53]KASHAR!$Q$17) -> 84686800 | W17: =SUM(M17-V17) -> 0
B18: Piutang Sementara baju | M18: =SUM(C18:L18) -> 0 | S18: 156000 | W18: =SUM(M18-V18) -> 0
B19: Hilang materai | M19: =SUM(C19:L19) -> 0 | S19: 150000 | W19: =SUM(M19-V19) -> 0
B20: BelI mesin potong rumput + GAS BAPAK PUTRI | M20: =SUM(C20:L20) -> 0 | S20: 2530000 | W20: =SUM(M20-V20) -> 0
B21: Talangan tukang | M21: =SUM(C21:L21) -> 0 | S21: 600000 | W21: =SUM(M21-V21) -> 0
B22: Panjar pak malik | S22: 2000000 | W22: =SUM(M22-V22) -> 0
B23: Piutang sementara wawan gaji tukang | S23: 1000000
B24: Pengeluaran LPJ 2025 | S24: =SUM([56]Sheet1!$C$15) -> 4569675.2
B25: Mantanaince Molen | S25: 1000000
B26: Talangan Bahan bangunan | S26: =SUM('Pengadaan barang dan jasa'!G24) -> 13360000
B27: Pengeluaran Bank sampah | S27: 1500000
B28: Ebit Kurniawan | S28: 200000
B29: Motor muh. saing | S29: 5000000
B30: panjar pak malik tgl 2/5/2026 | S30: 1000000
B31: Panjar pak malik bayar bpjs | S31: 3000000
B32: Talangan stnk kak lina | S32: 250000
B33: Panjar pak malik tgl 30/6/2026 | S33: 2000000
B34: Talangan cat wawan | S34: 100000
B35: Mata gurinda tukang | S35: 100000
A36: 4-8-2026 | B36: evi | D36: 266000 | M36: =SUM(C36:L36) -> 266000 | V36: =SUM(N36:U36) -> 0 | W36: =SUM(M36-V36) -> 266000
B37: Suci Febrianti | D37: 390000 | M37: =SUM(C37:L37) -> 390000 | V37: =SUM(N37:U37) -> 0 | W37: =SUM(M37-V37) -> 390000
B38: Hasaruddin | C38: 500000 | M38: =SUM(C38:L38) -> 500000 | V38: =SUM(N38:U38) -> 0 | W38: =SUM(M38-V38) -> 500000
B39: Hera | D39: 1184000 | M39: =SUM(C39:L39) -> 1184000 | V39: =SUM(N39:U39) -> 0 | W39: =SUM(M39-V39) -> 1184000
B40: Haslinda | C40: 100000 | M40: =SUM(C40:L40) -> 100000 | V40: =SUM(N40:U40) -> 0 | W40: =SUM(M40-V40) -> 100000
...

Sheet MODUS
A2: BUKU BANTU
A3: MODAL USAHA SYARIAH
A4: Hari Tanggal-Bulan-Tahun | C4: : 31 AGUSTUS 2026
A5: NO | B5: NASABAH | C5: TANGGAL | D5: JML PINJAMAN | E5: ANGSURAN | J5: SISA | L5: TUNGGAKAN BAGI HASIL 2.5% | M5: KET
E6: SISA | F6: TANGGAL | G6: POKOK | H6: B. SIL 2.5% | I6: JUMLAH
J7: POKOK | K7: B. SIL 2.5%
A8: 1 | B8: ASTRINA | C8: =C51 -> 10-02-2023 | D8: 5900000 | E8: 4750000 | I8: =G8+H8 -> 0 | J8: =SUM(E8-G8) -> 4750000
A9: 2 | B9: Ariyanto.SH.MH. | D9: 44000000 | E9: 39400000 | I9: =G9+H9 -> 0 | J9: =SUM(E9-G9) -> 39400000
A10: 3 | B10: Satria Sinring | D10: 15000000 | E10: 12150000 | F10: 31-8-2026 | G10: 100000 | I10: =G10+H10 -> 100000 | J10: =SUM(E10-G10) -> 12050000
A11: =A10+1 -> 4 | B11: ST.Hasnah | D11: 5000000 | E11: 1350000 | I11: =G11+H11 -> 0 | J11: =SUM(E11-G11) -> 1350000
A12: =A11+1 -> 5 | B12: Sukmawati | D12: 1159840 | E12: 709840 | I12: =G12+H12 -> 0 | J12: =SUM(E12-G12) -> 709840
A13: =A12+1 -> 6 | B13: Hasniati | D13: 5000000 | E13: 115832 | F13: 31-8-2026 | G13: 115832 | H13: 2896 | I13: =G13+H13 -> 118728 | J13: =SUM(E13-G13) -> 0 | K13: =SUM(J13*2.5%) -> 0 | N13: =250000-H13 -> 247104 | O13: =100000-H13 -> 97104 | P13: =250000-H13 -> 247104 | Q13: =H14+K14 -> 96552.5 | R13: =150000-H13 -> 147104
A14: =A13+1 -> 7 | B14: Hj.Nadira | D14: 3569061 | E14: 1981288 | F14: 31-8-2026 | G14: 100468 | H14: 49532 | I14: =G14+H14 -> 150000 | J14: =SUM(E14-G14) -> 1880820 | K14: =SUM(J14*2.5%) -> 47020.5 | N14: =150000-H14 -> 100468 | P14: =K14+L14 -> 47020.5 | Q14: =200000-H14 -> 150468
A15: =A14+1 -> 8 | B15: Indra Umi Rulianti | D15: 1088597 | E15: 735692 | F15: 31-8-2026 | G15: 381608 | H15: 18392 | I15: =G15+H15 -> 400000 | J15: =SUM(E15-G15) -> 354084 | K15: =SUM(J15*2.5%) -> 8852.1 | N15: =400000-H15 -> 381608 | P15: =100000-P14 -> 52979.5 | Q15: =P15+G14 -> 153447.5
A16: =A15+1 -> 9 | B16: Nurfaidah | D16: 967246 | E16: 892095 | F16: 31-8-2026 | G16: 2698 | H16: 22302 | I16: =G16+H16 -> 25000 | J16: =SUM(E16-G16) -> 889397 | K16: =SUM(J16*2.5%) -> 22234.925 | N16: =25000-H16 -> 2698 | O16: =H16-K16 -> 67.075 | P16: =L16-O16 -> -67.075 | Q16: =K16+L16 -> 22234.925
A17: =A16+1 -> 10 | B17: Tumina | D17: 722590 | E17: 479931 | I17: =G17+H17 -> 0 | J17: =SUM(E17-G17) -> 479931 | K17: =SUM(J17*2.5%) -> 11998.275 | L17: 107982 | M17: stop bagi hasil | O17: =L16-O16 -> -67.075 | Q17: =25000-Q16 -> 2765.075
A18: =A17+1 -> 11 | B18: Ratna S | D18: 1784893 | E18: 1461453 | I18: =G18+H18 -> 0 | J18: =SUM(E18-G18) -> 1461453 | K18: =SUM(J18*2.5%) -> 36536.325 | L18: 124608 | M18: stop bagi hasil
A19: =A18+1 -> 12 | B19: Fadillah | D19: 3611701 | E19: 3560937 | I19: =G19+H19 -> 0 | J19: =SUM(E19-G19) -> 3560937 | K19: =SUM(J19*2.5%) -> 89023.425 | L19: 245115 | N19: =H19-K19 -> -89023.425 | O19: =L19-N19 -> 334138.42
A20: =A19+1 -> 13 | B20: Nurhayati Bahtiar | D20: 1755363 | E20: 1263615 | I20: =G20+H20 -> 0 | J20: =SUM(E20-G20) -> 1263615 | K20: =SUM(J20*2.5%) -> 31590.375 | L20: 315900 | N20: =L20+K20 -> 347490.38
A21: =A20+1 -> 14 | B21: Wahidah | D21: 1755480 | E21: 1407699 | I21: =G21+H21 -> 0 | J21: =SUM(E21-G21) -> 1407699 | K21: =SUM(J21*2.5%) -> 35192.475 | L21: 146344 | N21: =L21+K21 -> 181536.48 | O21: =100000-K21 -> 64807.525 | P21: =L21-O21 -> 81536.475
A22: =A21+1 -> 15 | B22: Sakka Batupute | D22: 1493970 | E22: 1315178 | I22: =G22+H22 -> 0 | J22: =SUM(E22-G22) -> 1315178 | M22: stp bagi hasil | O22: =L21-O21 -> 81536.475
A23: =A22+1 -> 16 | B23: Aisyah | C23: 15-07-2020 | D23: 2868402 | E23: 0 | I23: =G23+H23 -> 0 | J23: =SUM(E23-G23) -> 0 | K23: =SUM(J23*2.5%) -> 0 | L23: 264256
A24: =A23+1 -> 17 | B24: Nurjanna | D24: 1876372 | E24: 218814 | I24: =G24+H24 -> 0 | J24: =SUM(E24-G24) -> 218814 | K24: =SUM(J24*2.5%) -> 5470.35 | O24: =K24+L24 -> 5470.35 | P24: =100000-H24 -> 100000
A25: =A24+1 -> 18 | B25: A.Haerul | C25: 22-10-2020 | D25: 2000000 | E25: 1849856 | I25: =G25+H25 -> 0 | J25: =SUM(E25-G25) -> 1849856 | K25: =SUM(J25*2.5%) -> 46246.4 | L25: 184984 | N25: =L25+K25 -> 231230.4
A26: =A25+1 -> 19 | B26: usman | C26: 11-01-2022 | D26: 4568513 | E26: 4394990 | I26: =G26+H26 -> 0 | J26: =SUM(E26-G26) -> 4394990 | K26: =SUM(J26*2.5%) -> 109874.75 | L26: 828375 | N26: =L26+K26 -> 938249.75
A27: =A26+1 -> 20 | B27: Herawati | C27: 10-01-2022 | D27: 2381327 | E27: 1666412 | F27: 31-8-2026 | G27: 8340 | H27: 41660 | I27: =G27+H27 -> 50000 | J27: =SUM(E27-G27) -> 1658072 | K27: =SUM(J27*2.5%) -> 41451.8 | O27: =50000-H27 -> 8340 | P27: =100000-O27 -> 91660 | Q27: =100000-H27 -> 58340
A28: =A27+1 -> 21 | B28: FITRIANI A | C28: 10-01-2022 | D28: 5911040 | E28: 5908816 | I28: =G28+H28 -> 0 | J28: =SUM(E28-G28) -> 5908816 | K28: =SUM(J28*2.5%) -> 147720.4 | L28: 656088 | O28: =H28-K28 -> -147720.4 | P28: =150000-H28 -> 150000 | Q28: =L28-P28 -> 506088 | R28: =Q28-H28 -> 506088
A29: =A28+1 -> 22 | B29: FITRIANI B | C29: 10-01-2022 | D29: 2000000 | E29: 446201 | I29: =G29+H29 -> 0 | J29: =SUM(E29-G29) -> 446201 | K29: =SUM(J29*2.5%) -> 11155.025 | L29: 22310 | N29: =L29+K29 -> 33465.025 | O29: =L28-O28 -> 803808.4 | P29: =L29+K29 -> 33465.025
A30: =A29+1 -> 23 | B30: Hj.Wali | C30: 10-01-2022 | D30: 1202503 | E30: 713026 | F30: 31-8-2026 | G30: 50000 | I30: =G30+H30 -> 50000 | J30: =SUM(E30-G30) -> 663026 | M30: stp bg hasil | P30: =50000-P29 -> 16534.975
A31: =A30+1 -> 24 | B31: WELLU | C31: 10-01-2022 | D31: 22500000 | E31: 20000000 | F31: 31-8-2026 | H31: 500000 | I31: =G31+H31 -> 500000 | J31: =SUM(E31-G31) -> 20000000 | K31: =SUM(J31*2.5%) -> 500000
A32: =A31+1 -> 25 | B32: DEWI | C32: 14-01-2022 | D32: 1496052 | E32: 0 | I32: =G32+H32 -> 0 | J32: =SUM(E32-G32) -> 0 | K32: =SUM(J32*2.5%) -> 0 | O32: =L32+K32 -> 0 | P32: =100000-H32 -> 100000
A33: =A32+1 -> 26 | B33: mariati zainuddin | D33: 1360543 | E33: 666345 | F33: 31-8-2026 | G33: 16705 | H33: 83295 | I33: =G33+H33 -> 100000 | J33: =SUM(E33-G33) -> 649640 | K33: =SUM(J33*2.5%) -> 16241 | O33: =L33+K33 -> 16241 | P33: =100000-H33 -> 16705 | Q33: =100000-H33 -> 16705
A34: =A33+1 -> 27 | B34: MULIANI | C34: 05-04-2022 | D34: 2000000 | E34: 1900000 | I34: =G34+H34 -> 0 | J34: =SUM(E34-G34) -> 1900000 | M34: stop bagi hasil
A35: =A34+1 -> 28 | B35: RUSMIATI AWERANGE | C35: 01-10-2022 | D35: 1692069 | E35: 1638565 | I35: =G35+H35 -> 0 | J35: =SUM(E35-G35) -> 1638565 | K35: =SUM(J35*2.5%) -> 40964.125 | L35: 195784 | N35: =L35+K35 -> 236748.12
A36: =A35+1 -> 29 | B36: Hj Rosniah | C36: =#REF! -> #REF! | D36: 7938265 | E36: 6453359 | I36: =G36+H36 -> 0 | J36: =SUM(E36-G36) -> 6453359 | K36: =SUM(J36*2.5%) -> 161333.98 | L36: 716840 | M36: stp sementara | N36: =L36+K36 -> 878173.97 | P36: =#REF!+329893 -> #REF!
A37: =A36+1 -> 30 | B37: Iraja | C37: 25-11-2022 | D37: 1585780 | E37: 418456 | F37: 31-8-2026 | G37: 47695 | H37: 52305 | I37: =G37+H37 -> 100000 | J37: =SUM(E37-G37) -> 370761 | K37: =SUM(J37*2.5%) -> 9269.025 | N37: =100000-H37 -> 47695 | O37: =N37/K37 -> 5.1456329 | P37: =100000-H37 -> 47695
A38: =A37+1 -> 31 | B38: Labeddu | C38: 26-11-2022 | D38: 4187495 | E38: 2094432 | F38: 31-8-2026 | G38: 190556 | H38: 209444 | I38: =G38+H38 -> 400000 | J38: =SUM(E38-G38) -> 1903876 | K38: =SUM(J38*2.5%) -> 47596.9 | N38: =L38+K38 -> 47596.9 | O38: =L38+K38 -> 47596.9 | P38: =K38+L38 -> 47596.9 | Q38: =400000-H38 -> 190556
A39: =A38+1 -> 32 | B39: Suci Febrianti | C39: 30-11-2022 | D39: 4626747 | E39: 8316847 | I39: =G39+H39 -> 0 | J39: =SUM(E39-G39) -> 8316847 | K39: =SUM(J39*2.5%) -> 207921.17 | L39: 115842 | N39: =300000-K39 -> 92078.825 | O39: =130000-H39 -> 130000 | P39: =K39-H39 -> 207921.17
A40: =A39+1 -> 33 | B40: Jayanti | C40: =C39 -> 30-11-2022 | D40: 2213403 | E40: 629455 | F40: 31-8-2026 | G40: 84264 | H40: 15736 | I40: =G40+H40 -> 100000 | J40: =SUM(E40-G40) -> 545191 | K40: =SUM(J40*2.5%) -> 13629.775 | N40: =L39-N39 -> 23763.175 | O40: =100000-H40 -> 84264
A41: =A40+1 -> 34 | B41: Roslaelah Damis | C41: 03-12-2022 | D41: 8457758 | E41: 7063011 | I41: =G41+H41 -> 0 | J41: =SUM(E41-G41) -> 7063011 | K41: =SUM(J41*2.5%) -> 176575.27 | L41: 559450
...

Sheet MULTI
A1: LAPORAN KEUANGAN KEPALA UNIT USAHA MULTIGUNA FINANCIAL BUMDes SEJAHTERA
A2: DESA BATUPUTE KEC.SOPPENG RIAJA KAB.BARRU BULAN AGUSTUS 2026
A3: NO | B3: Tgl Beli | C3: Nama | D3: Jenis Brg | E3: HARGA BELI | F3: LABA | G3: TOTAL | H3: SISA | J3: Jkt Waktu | K3: PEMBAYARAN | P3: Saldo
H4: POKOK | I4: KEUNTNG | K4: Ke | L4: TGL | M4: Pokok | N4: Keuntungan | O4: JML | P4: Pokok | Q4: Keuntungan
A5: 1 | C5: Rosmah | D5: HP.OPPO A9 | E5: 3700000 | F5: 800000 | G5: =SUM(E5+F5) -> 4500000 | H5: 3125000 | I5: 550000 | J5: 20 | K5: 4 | P5: =SUM(H5-M5) -> 3125000 | Q5: =SUM(I5-N5) -> 550000
A6: =A5+1 -> 2 | C6: Aswar | D6: HP VIVO Y19 | E6: 3000000 | F6: 600000 | G6: =SUM(E6+F6) -> 3600000 | H6: 175000 | I6: 0 | J6: 20 | K6: 19 | O6: =M6+N6 -> 0 | P6: =SUM(H6-M6) -> 175000 | Q6: =SUM(I6-N6) -> 0
A7: =A6+1 -> 3 | C7: Fatimah | D7: Brng Dagangan | E7: 10282500 | F7: 1338000 | G7: =SUM(E7+F7) -> 11620500 | H7: 2438106 | I7: 0 | J7: 30 | K7: 21 | O7: =M7+N7 -> 0 | P7: =SUM(H7-M7) -> 2438106 | Q7: =SUM(I7-N7) -> 0 | R7: 639075
A8: =A7+1 -> 4 | C8: Fitriani | D8: HP.OppoA52020 | E8: 2450000 | F8: 298000 | G8: =SUM(E8+F8) -> 2748000 | H8: 942000 | I8: 124168 | J8: 12 | K8: 8 | O8: =M8+N8 -> 0 | P8: =SUM(H8-M8) -> 942000 | Q8: =SUM(I8-N8) -> 124168
A9: =A8+1 -> 5 | C9: Satriandi | D9: Conventer UFI | E9: 4000000 | F9: 400000 | G9: =SUM(E9+F9) -> 4400000 | H9: 1200000 | I9: 120000 | J9: 10 | K9: 8 | O9: =M9+N9 -> 0 | P9: =SUM(H9-M9) -> 1200000 | Q9: =SUM(I9-N9) -> 120000
A10: =A9+1 -> 6 | C10: Resky.A | D10: HP OPPO AIK | E10: 1650000 | F10: 200000 | G10: =SUM(E10+F10) -> 1850000 | H10: 1320000 | I10: 160000 | J10: 10 | K10: 4 | O10: =M10+N10 -> 0 | P10: =SUM(H10-M10) -> 1320000 | Q10: =SUM(I10-N10) -> 160000 | R10: =SUM(P5:P16) -> 28450607
A11: =A10+1 -> 7 | C11: Sri Utami.K | D11: HP OPPO A5RAM4 | E11: 2900000 | F11: 400000 | G11: =SUM(E11+F11) -> 3300000 | H11: 1208332 | I11: 166668 | J11: 12 | K11: 6 | O11: =M11+N11 -> 0 | P11: =SUM(H11-M11) -> 1208332 | Q11: =SUM(I11-N11) -> 166668 | R11: =R10+P18+P19+P21 -> 38637680
A12: =A11+1 -> 8 | C12: Sabrani | D12: HP SAMSUNGJ7 | E12: 2250000 | F12: 250000 | G12: =SUM(E12+F12) -> 2500000 | H12: 895000 | I12: 100000 | J12: 10 | K12: 6 | O12: =M12+N12 -> 0 | P12: =SUM(H12-M12) -> 895000 | Q12: =SUM(I12-N12) -> 100000
A13: =A12+1 -> 9 | B13: =#REF! -> #REF! | C13: RUKMAN HAMID | D13: Barang Campuran | E13: 15000000 | F13: 6000000 | G13: =SUM(E13+F13) -> 21000000 | H13: 13925000 | J13: 40 | K13: 2 | O13: =M13+N13 -> 0 | P13: =SUM(H13-M13) -> 13925000
A14: =A13+1 -> 10 | C14: Darmawati | D14: HP OPPOA5 2020 | E14: 2875000 | F14: 365000 | G14: =SUM(E14+F14) -> 3240000 | H14: 409170 | I14: 50832 | J14: 12 | K14: 11 | O14: =M14+N14 -> 0 | P14: =SUM(H14-M14) -> 409170 | Q14: =SUM(I14-N14) -> 50832
A15: =A14+1 -> 11 | C15: Budiman | D15: HP XIOMI REDMI 8 | E15: 3800000 | F15: 460000 | G15: =SUM(E15+F15) -> 4260000 | H15: 2381666 | I15: 218334 | J15: 12 | K15: 4 | O15: =M15+N15 -> 0 | P15: =SUM(H15-M15) -> 2381666 | Q15: =SUM(I15-N15) -> 218334
A16: =A15+1 -> 12 | C16: Ariyani Arifin II | D16: TV | E16: 2500000 | F16: 300000 | G16: =SUM(E16+F16) -> 2800000 | H16: 431333 | I16: 0 | J16: 12 | K16: 8 | O16: =M16+N16 -> 0 | P16: =SUM(H16-M16) -> 431333 | Q16: =SUM(I16-N16) -> 0
A17: =A16+1 -> 13 | B17: 05-04-2024 | C17: Herman saputra | D17: BAN MOBIL | E17: 2295000 | F17: 413100 | G17: =SUM(E17+F17) -> 2708100 | H17: 840105 | I17: 144453 | J17: 12 | K17: 2 | L17: 31-8-2026 | M17: 87398 | N17: 12602 | O17: =M17+N17 -> 100000 | P17: =SUM(H17-M17) -> 752707 | Q17: =SUM(I17-N17) -> 131851 | R17: =100000-N17 -> 87398 | S17: =P17*1.5% -> 11290.605 | T17: =P17+Q17 -> 884558
A18: =A17+1 -> 14 | C18: Kistang | D18: Perdagangan | E18: 8889100 | F18: 3555640 | G18: =SUM(E18+F18) -> 12444740 | H18: 8493073 | I18: 0 | J18: 40 | K18: 6 | O18: =M18+N18 -> 0 | P18: =SUM(H18-M18) -> 8493073 | Q18: =SUM(I18-N18) -> 0 | S18: =S17*12 -> 135487.26 | T18: =100000-S17 -> 88709.395
A19: =A18+1 -> 15 | C19: Wadang | D19: HP | E19: 2300000 | F19: 276000 | G19: =SUM(E19+F19) -> 2576000 | H19: 536000 | I19: 0 | J19: 12 | O19: =M19+N19 -> 0 | P19: =SUM(H19-M19) -> 536000 | Q19: =SUM(I19-N19) -> 0
A20: =A19+1 -> 16 | B20: 23-11-2022 | C20: Fatmawati | D20: BAN MOBIL | E20: 30000000 | F20: 12000000 | G20: =SUM(E20+F20) -> 42000000 | H20: 17050000 | I20: 0 | J20: 40 | O20: =M20+N20 -> 0 | P20: =SUM(H20-M20) -> 17050000 | Q20: =SUM(I20-N20) -> 0
A21: =A20+1 -> 17 | B21: 14-05-2023 | C21: SUDARMIN Ujungge | D21: HP | E21: 2600000 | F21: 260000 | G21: =SUM(E21+F21) -> 2860000 | H21: 1158000 | I21: 64000 | J21: 10 | K21: 7 | O21: =M21+N21 -> 0 | P21: =SUM(H21-M21) -> 1158000 | Q21: =SUM(I21-N21) -> 64000
A22: =A21+1 -> 18 | B22: 16-07-2023 | C22: Agustang | D22: Barang | E22: 25000000 | F22: 10000000 | G22: =SUM(E22+F22) -> 35000000 | H22: 17825000 | I22: 2750000 | J22: 40 | K22: 29 | O22: =M22+N22 -> 0 | P22: =SUM(H22-M22) -> 17825000 | Q22: =SUM(I22-N22) -> 2750000 | S22: =F22/J22 -> 250000
A23: =A22+1 -> 19 | B23: 02-12-2023 | C23: Nurdalia 2 | D23: SENG RUMAH | E23: 15000000 | F23: 6000000 | G23: =SUM(E23+F23) -> 21000000 | H23: 4375000 | I23: 2200000 | J23: 40 | K23: 32 | L23: 31-8-2026 | M23: 350000 | N23: 150000 | O23: =M23+N23 -> 500000 | P23: =SUM(H23-M23) -> 4025000 | Q23: =SUM(I23-N23) -> 2050000 | R23: =F23/J23 -> 150000 | S23: =F23/J23 -> 150000
A24: =A23+1 -> 20 | B24: 20-03-2024 | C24: Arisman | D24: Kosmetik | E24: 28000000 | F24: 8680000 | G24: =SUM(E24+F24) -> 36680000 | H24: 6821000 | I24: 840000 | J24: 31 | K24: 27 | L24: 4-8-2026 | M24: 220000 | N24: 280000 | O24: =M24+N24 -> 500000 | P24: =SUM(H24-M24) -> 6601000 | Q24: =SUM(I24-N24) -> 560000 | S24: =F24/J24 -> 280000 | T24: =500000-N24 -> 220000
A25: =A24+1 -> 21 | B25: 20-03-2024 | C25: Idris | D25: barang Bangunan | E25: 28000000 | F25: 8680000 | G25: =SUM(E25+F25) -> 36680000 | H25: 22416000 | I25: 2520000 | J25: 31 | K25: 22 | O25: =M25+N25 -> 0 | P25: =SUM(H25-M25) -> 22416000 | Q25: =SUM(I25-N25) -> 2520000
A26: =A25+1 -> 22 | B26: 20-03-2024 | C26: Hera Prawati | D26: Genset | E26: 28000000 | F26: 8680000 | G26: =SUM(E26+F26) -> 36680000 | H26: 10188000 | I26: 840000 | J26: 31 | K26: 26 | L26: 4-8-2026 | M26: 904000 | N26: 280000 | O26: =M26+N26 -> 1184000 | P26: =SUM(H26-M26) -> 9284000 | Q26: =SUM(I26-N26) -> 560000 | S26: =1184000-N26 -> 904000 | T26: =F26/J26 -> 280000
A27: =A26+1 -> 23 | B27: 03-07-2024 | C27: Yusnita Zainal Arifin | D27: HP Samsung | E27: 10000000 | F27: 6000000 | G27: =SUM(E27+F27) -> 16000000 | H27: 6400000 | I27: 3150000 | J27: 40 | K27: 18 | O27: =M27+N27 -> 0 | P27: =SUM(H27-M27) -> 6400000 | Q27: =SUM(I27-N27) -> 3150000 | R27: bulan 10 ditagih | S27: =F27/J27 -> 150000
A28: =A27+1 -> 24 | B28: 10-07-2024 | C28: Irtika Adillah | D28: Laptop | E28: 8000000 | F28: 450000 | G28: =SUM(E28+F28) -> 8450000 | H28: 6650000 | I28: 300000 | J28: 12 | K28: 5 | L28: 18-8-2026 | M28: 462500 | N28: 37500 | O28: =M28+N28 -> 500000 | P28: =SUM(H28-M28) -> 6187500 | Q28: =SUM(I28-N28) -> 262500 | R28: =F28/J28 -> 37500 | S28: =500000-R28 -> 462500
A29: =A28+1 -> 25 | B29: 11-07-2024 | C29: Nurlina | D29: Motor Honda | E29: 20550000 | F29: 3895500 | G29: =SUM(E29+F29) -> 24445500 | H29: 12729775 | I29: 3895500 | J29: 20 | K29: 3 | L29: 27-8-2026 | M29: 105225 | N29: 194775 | O29: =M29+N29 -> 300000 | P29: =SUM(H29-M29) -> 12624550 | Q29: 3895500 | R29: =400000-N29 -> 205225 | S29: =F29/J29 -> 194775 | T29: =310000-S29 -> 115225
A30: =A29+1 -> 26 | B30: 16-07-2024 | C30: Nurul asmi/fatma | D30: Motor Honda | E30: 25000000 | F30: 9375000 | G30: =SUM(E30+F30) -> 34375000 | H30: 15185000 | I30: 2250000 | J30: 25 | K30: 19 | L30: 31-8-2026 | M30: 500000 | N30: 375000 | O30: =M30+N30 -> 875000 | P30: =SUM(H30-M30) -> 14685000 | Q30: =SUM(I30-N30) -> 1875000 | T30: =F30/J30 -> 375000
A31: =A30+1 -> 27 | B31: 19-07-2024 | C31: Irma | D31: Motor Yamaha | E31: 37000000 | F31: 22500000 | G31: =SUM(E31+F31) -> 59500000 | H31: 35521250 | I31: 5663750 | J31: 60 | K31: 21 | L31: 31-8-2026 | M31: 225000 | N31: 375000 | O31: =M31+N31 -> 600000 | P31: =SUM(H31-M31) -> 35296250 | Q31: =SUM(I31-N31) -> 5288750 | R31: =600000-N31 -> 225000 | S31: =F31/J31 -> 375000 | W31: =37000000*1.5% -> 555000
A32: =A31+1 -> 28 | B32: 11-10-2024 | C32: Muh. Kurniawan, SE | D32: Kredit HP Samsung | E32: 6000000 | F32: 1350000 | G32: =SUM(E32+F32) -> 7350000 | H32: 630000 | I32: 120000 | J32: 18 | K32: 17 | L32: 14-8-2026 | M32: 425000 | N32: 75000 | O32: =M32+N32 -> 500000 | P32: =SUM(H32-M32) -> 205000 | Q32: =SUM(I32-N32) -> 45000 | S32: =E32/J32 -> 333333.33 | T32: =F32/J32 -> 75000 | U32: =500000-T32 -> 425000 | V32: =P32+Q32 -> 250000
A33: =A32+1 -> 29 | B33: 05-11-2024 | C33: Abd. Malik | D33: Kredit HP Samsung | E33: 2700000 | F33: 405000 | G33: =SUM(E33+F33) -> 3105000 | H33: 1402500 | I33: 162000 | J33: 10 | K33: 5 | O33: =M33+N33 -> 0 | P33: =SUM(H33-M33) -> 1402500 | Q33: =SUM(I33-N33) -> 162000 | S33: =200000-T33 -> 159500 | T33: =F33/J33 -> 40500 | U33: =100000-N33 -> 100000
A34: =A33+1 -> 30 | B34: 01-01-2025 | C34: Jaharuddin | D34: Bahan Bangunan | E34: 58866300 | F34: 30022000 | G34: =SUM(E34+F34) -> 88888300 | H34: 55998300 | I34: 26490000 | J34: 48 | K34: 18 | L34: 31-8-2026 | M34: 717000 | N34: 883000 | O34: =M34+N34 -> 1600000 | P34: =SUM(H34-M34) -> 55281300 | Q34: =SUM(I34-N34) -> 25607000 | S34: =1600000-N34 -> 717000 | T34: 883000 | U34: =S34+T34 -> 1600000 | V34: =F34/J34 -> 625458.33 | W34: =E34*1.5% -> 882994.5
A35: =A34+1 -> 31 | B35: 11-8-2025 | C35: Ebit Kurniawan | D35: Tab | E35: 3000000 | F35: 900000 | G35: =SUM(E35+F35) -> 3900000 | H35: 1950000 | I35: 495000 | J35: 20 | K35: 9 | O35: =M35+N35 -> 0 | P35: =SUM(H35-M35) -> 1950000 | Q35: =SUM(I35-N35) -> 495000 | S35: =F35/J35 -> 45000 | T35: =G35/J35 -> 195000 | U35: =T35*3 -> 585000 | V35: =T35-S35 -> 150000 | W35: =G35/J35 -> 195000
A36: =A35+1 -> 32 | B36: 29-8-2025 | C36: Mansyur | D36: Jaring | E36: 1410000 | F36: 35250 | G36: =SUM(E36+F36) -> 1445250 | H36: 945250 | I36: 35250 | J36: 2 | K36: 1 | O36: =M36+N36 -> 0 | P36: =SUM(H36-M36) -> 945250 | Q36: =SUM(I36-N36) -> 35250 | R36: =P36+Q36 -> 980500 | S36: =R36/12 -> 81708.333 | T36: =S36*4 -> 326833.33 | U36: =500000-N36 -> 500000
A37: =A36+1 -> 33 | B37: 29-8-2025 | C37: Damis | D37: Jaring | E37: 406000 | F37: 50750 | G37: =SUM(E37+F37) -> 456750 | H37: 256750 | I37: 0 | J37: 5 | O37: =M37+N37 -> 0 | P37: =SUM(H37-M37) -> 256750 | Q37: =SUM(I37-N37) -> 0 | R37: 92000 | S37: =200000-N37 -> 200000 | T37: =160000-#REF! -> #REF!
A38: =A37+1 -> 34 | B38: 29-8-2025 | C38: Sofyan | D38: Baju Selam | E38: 2650000 | F38: 795000 | G38: =SUM(E38+F38) -> 3445000 | H38: 1269500 | I38: 397500 | J38: 12 | K38: 6 | O38: =M38+N38 -> 0 | P38: =SUM(H38-M38) -> 1269500 | Q38: =SUM(I38-N38) -> 397500 | R38: 288000 | S38: =F38/J38 -> 66250 | T38: =R38-S38 -> 221750
A39: =A38+1 -> 35 | B39: =B38 -> 29-8-2025 | C39: Ancu | D39: Baju Selam | E39: 2015000 | F39: 100750 | G39: =SUM(E39+F39) -> 2115750 | H39: 1230000 | I39: 0 | J39: 2 | K39: 2 | O39: =M39+N39 -> 0 | P39: =SUM(H39-M39) -> 1230000 | Q39: =SUM(I39-N39) -> 0 | R39: 1365000 | S39: =P39+Q39 -> 1230000 | T39: =S39-R39 -> -135000 | U39: =350000-N39 -> 350000
A40: =A39+1 -> 36 | B40: =B39 -> 29-8-2025 | C40: Arif | D40: Kacamata+jaring | E40: 1938000 | F40: 581400 | G40: =SUM(E40+F40) -> 2519400 | H40: 1028700 | I40: 290700 | J40: 12 | K40: 6 | O40: =M40+N40 -> 0 | P40: =SUM(H40-M40) -> 1028700 | Q40: =SUM(I40-N40) -> 290700 | R40: 210000 | S40: =F40/J40 -> 48450 | T40: =1000000-N40 -> 1000000 | W40: =200000-N40 -> 200000
...

Sheet REKAP
A1: REKAPITULASI KEGIATAN
A2: BUMDesa SEJAHTERA DESA BATUPUTE KECAMATAN SOPPENG RIAJA KABUPATEN BARRU
A3: TAHUN 2026
A5: NO | B5: JENIS USAHA | C5: JANUARI | I5: FEBRUARI | O5: MARET
C6: PENDAPATAN | D6: PENGELUARAN | E6: LABA BERSIH | F6: PEMBAGIAN SHU | I6: PENDAPATAN | J6: PENGELUARAN | K6: LABA BERSIH | L6: PEMBAGIAN SHU | O6: PENDAPATAN | P6: PENGELUARAN | Q6: LABA BERSIH | R6: PEMBAGIAN SHU
F7: PADes 75% | G7: BUMDes 20% | H7: CAD 5% | L7: PADes 75% | M7: BUMDes 20% | N7: CAD 5% | R7: PADes 75% | S7: BUMDes 20% | T7: CAD 5%
A8: 1 | B8: BRILink | C8: =SUM('[49]RUGI LABA '!$C$12) -> 3403256 | D8: =SUM('[49]RUGI LABA '!$F$26) -> 16176633 | E8: =SUM(C16-D8) -> 901042.67 | F8: =E8*75% -> 675782 | G8: =E8*20% -> 180208.53 | H8: =SUM(E8*5%) -> 45052.133 | I8: =SUM([50]REKAP!$I$8) -> 4175520 | J8: =SUM([50]REKAP!$J$8) -> 15481633 | K8: =SUM(I16-J8) -> 850888.67 | L8: =SUM(K8*75%) -> 638166.5 | M8: =SUM(K8*20%) -> 170177.73 | N8: =SUM(K8*5%) -> 42544.433 | O8: =SUM([51]REKAP!$O$8) -> 2957700 | P8: =SUM([51]REKAP!$P$8) -> 16406633 | Q8: =SUM(O16-P8) -> 1426243 | R8: =SUM(Q8*75%) -> 1069682.2 | S8: =SUM(Q8*20%) -> 285248.6 | T8: =SUM(Q8*5%) -> 71312.15 | V8: =SUM(C8+I8+O8) -> 10536476 | W8: 8525975
A9: 2 | B9: PIUTANG SYARI'AH | C9: =SUM('[49]RUGI LABA '!$C$9) -> 8815913 | I9: =SUM([50]REKAP!$I$9) -> 7794055 | O9: =SUM([51]REKAP!$O$9) -> 7005396 | V9: =C9+I9+O9 -> 23615364
A10: 3 | B10: MULTI FINACE | C10: =SUM('[49]RUGI LABA '!$C$13) -> 3631205 | I10: =SUM([50]REKAP!$I$10) -> 3306497 | O10: =SUM([51]REKAP!$O$10) -> 4016780 | V10: =C10+I10+O10 -> 10954482
A11: 4 | B11: BARANG&JASA | O11: =SUM([51]REKAP!$O$11) -> 2675000 | V11: =C11+I11+O11 -> 2675000
A12: 5 | B12: PANGKALAN GAS ELPIJI | C12: =SUM('[49]RUGI LABA '!$C$10) -> 800000 | I12: =SUM([50]REKAP!$I$12) -> 800000 | O12: =SUM([51]REKAP!$O$12) -> 800000 | V12: =C12+I12+O12 -> 2400000 | Z12: =SUM(V8+V22) -> 21909486
A13: 6 | B13: KETAHANAN PANGAN | C13: 0 | Z13: =V9+V23 -> 45448352
A14: 7 | B14: TOKO NELAYAN | C14: =SUM('[49]RUGI LABA '!$C$11) -> 195000 | I14: =SUM([50]REKAP!$I$14) -> 30000
A15: 8 | B15: TOKO ALAT BENGKEL | C15: =SUM('[49]RUGI LABA '!$C$16) -> 232302 | I15: =SUM([50]REKAP!$I$15) -> 226450 | O15: =SUM([51]REKAP!$O$15) -> 378000
B16: JUMLAH | C16: =SUM(C8:C15) -> 17077676 | I16: =SUM(I8:I15) -> 16332522 | O16: =SUM(O8:O15) -> 17832876 | V16: =SUM(V8:V13) -> 50181322 | W16: =D8+J8+P8 -> 48064900 | Z16: =SUM(V10+V24) -> 25927317
L17: =SUM(F8+L8) -> 1313948.5 | M17: =SUM(G8+M8) -> 350386.27 | R17: =SUM(L17+R8) -> 2383630.8 | S17: =SUM(M17+S8) -> 635634.87 | W17: =E8+K8+Q8 -> 3178174.3 | X17: =W17*75% -> 2383630.8 | Z17: =SUM(V11+V25) -> 7914000
W18: =V16-W16 -> 2116422.3 | X18: =W17*20% -> 635634.87 | Y18: =F8+L8+R8 -> 2383630.8 | Z18: =SUM(V12+V26) -> 4800000 | AA18: =W16+W30 -> 1.004478e+08
A19: NO | B19: JENIS USAHA | C19: APRIL | I19: MEI | O19: JUNI | X19: =W17*5% -> 158908.72 | Z19: =SUM(Z12:Z18) -> 105999155 | AA19: =W17+W31 -> 19485463
C20: PENDAPATAN | D20: PENGELUARAN | E20: LABA BERSIH | F20: PEMBAGIAN SHU | I20: PENDAPATAN | J20: PENGELUARAN | K20: LABA BERSIH | L20: PEMBAGIAN SHU | O20: PENDAPATAN | P20: PENGELUARAN | Q20: LABA BERSIH | R20: PEMBAGIAN SHU | AA20: =AA19*75% -> 14614098 | AB20: =AA19*20% -> 3897092.7
F21: PADes 75% | G21: BUMDes 20% | H21: CAD 5% | L21: PADes 75% | M21: BUMDes 20% | N21: CAD 5% | R21: PADes 75% | S21: BUMDes 20% | T21: CAD 5% | AA21: =SUM(AA19*20%) -> 3897092.7 | AB21: =X18+X32 -> 3897092.7
A22: 1 | B22: BRILink | C22: =SUM([52]REKAP!$C$22) -> 4162140 | D22: =SUM('RUGI LABA '!F26) -> 18880217 | E22: =SUM(C30-D22) -> 3820260.3 | F22: =SUM(E22*75%) -> 2865195.2 | G22: =SUM(E22*20%) -> 764052.07 | H22: =SUM(E22*5%) -> 191013.02 | I22: =SUM([53]REKAP!$I$22) -> 4614400 | J22: =SUM([53]REKAP!$J$22) -> 17361633 | K22: =SUM(I30-J22) -> 10712249 | L22: =K22*75% -> 8034186.5 | M22: =K22*20% -> 2142449.7 | N22: =SUM(K22*5%) -> 535612.43 | O22: =SUM([54]REKAP!$O$22) -> 2596470 | P22: =SUM([54]REKAP!$P$22) -> 16141050 | Q22: =O30-P22 -> 1774780 | R22: =Q22*75% -> 1331085 | S22: =Q22*20% -> 354956 | T22: =Q22*5% -> 88739 | V22: =SUM(C22+I22+O22) -> 11373010 | AA22: =SUM(AA19*5%) -> 974273.17
A23: 2 | B23: PIUTANG SYARI'AH | C23: =SUM([52]REKAP!$C$23) -> 7404097 | I23: =SUM([53]REKAP!$I$23) -> 6592431 | O23: =SUM([54]REKAP!$O$23) -> 7836460 | V23: =C23+I23+O23 -> 21832988
A24: 3 | B24: MULTI FINACE | C24: =SUM([52]REKAP!$C$24) -> 7447000 | I24: =SUM([53]REKAP!$I$24) -> 3984169 | O24: =SUM([54]REKAP!$O$24) -> 3541666 | V24: =C24+I24+O24 -> 14972835
A25: 4 | B25: BARANG&JASA | C25: =SUM([52]REKAP!$C$25) -> 2500000 | O25: =SUM([54]REKAP!$O$25) -> 2739000 | V25: =C25+I25+O25 -> 5239000
A26: 5 | B26: PANGKALAN GAS ELPIJI | C26: =SUM([52]REKAP!$C$26) -> 800000 | I26: 800000 | O26: =SUM([54]REKAP!$O$26) -> 800000 | V26: =C26+I26+O26 -> 2400000
A27: 6 | B27: KETAHANAN PANGAN | I27: =SUM([53]REKAP!$I$27) -> 11702600
A28: 7 | B28: TOKO NELAYAN
A29: 8 | B29: TOKO ALAT BENGKEL | C29: =SUM([52]REKAP!$C$29) -> 387240 | I29: =SUM([53]REKAP!$I$29) -> 380282 | O29: =SUM([54]REKAP!$O$29) -> 402234 | AB29: piutang | AC29: =Z13+AA46 -> 59950721
B30: JUMLAH | C30: =SUM(C22:C29) -> 22700477 | I30: =SUM(I22:I29) -> 28073882 | O30: =SUM(O22:O29) -> 17915830 | V30: =C30+I30+O30 -> 68690189 | W30: =D22+J22+P22 -> 52382900 | AB30: multi | AC30: =#REF!+AA47 -> #REF!
F31: =SUM(F22+R17) -> 5248826 | G31: =SUM(G22+S17) -> 1399686.9 | L31: =SUM(L22+F31) -> 13283012 | M31: =SUM(M22+G31) -> 3542136.7 | R31: =SUM(R22+L31) -> 14614098 | S31: =SUM(S22+M31) -> 3897092.7 | W31: =V30-W30 -> 16307289 | X31: =W31*75% -> 12230467 | AB31: barang dan jasa | AC31: =Z16+AA48 -> 38409717
W32: =Q22+K22+E22 -> 16307289 | X32: =W32*20% -> 3261457.8 | AB32: gas | AC32: =Z17+AA49 -> 9514000
A33: NO | B33: JENIS USAHA | C33: JULI | I33: AGUSTUS | O33: SEPTEMBER | X33: =SUM(W31*5%) -> 815364.45 | AB33: bor | AC33: =AA50 -> 0
C34: PENDAPATAN | D34: PENGELUARAN | E34: LABA BERSIH | F34: PEMBAGIAN SHU | I34: PENDAPATAN | J34: PENGELUARAN | K34: LABA BERSIH | L34: PEMBAGIAN SHU | O34: PENDAPATAN | P34: PENGELUARAN | Q34: LABA BERSIH | R34: PEMBAGIAN SHU | AC34: =SUM(AC29:AC33) -> #REF!
F35: PADes 75% | G35: BUMDes 20% | H35: CAD 5% | L35: PADes 75% | M35: BUMDes 20% | N35: CAD 5% | R35: PADes 75% | S35: BUMDes 20% | T35: CAD 5% | W35: pengeluaran | X35: pades | Y35: bumdes | AC35: =Z18+AA51 -> 51525384
A36: 1 | B36: BRILink | C36: =SUM([57]REKAP!$C$36) -> 3467450 | D36: =SUM([57]REKAP!$D$36) -> 16990217 | E36: =SUM(C44-D36) -> 536283.33 | F36: =SUM(E36*75%) -> 402212.5 | G36: =SUM(E36*20%) -> 107256.67 | H36: =SUM(E36*5%) -> 26814.167 | I36: =SUM('RUGI LABA '!C12) -> 3144870 | J36: =SUM('RUGI LABA '!F26) -> 18880217 | K36: =SUM(I44-J36) -> 886574.33 | L36: =SUM(K36*75%) -> 664930.75 | M36: =SUM(K36*20%) -> 177314.87 | N36: =SUM(K36*5%) -> 44328.717 | V36: =C36+I36+O36 -> 6612320 | W36: =D36+J36+P36 -> 35870433 | X36: =F36+L36+R36 -> 1067143.2 | Y36: =G36+M36+S36 -> 284571.53
A37: 2 | B37: PIUTANG SYARI'AH | C37: =SUM([57]REKAP!$C$37) -> 7310479 | I37: =SUM('RUGI LABA '!C9) -> 7191890 | V37: =C37+I37+O37 -> 14502369
A38: 3 | B38: MULTI FINACE | C38: =SUM([57]REKAP!$C$38) -> 3540668 | I38: =SUM('RUGI LABA '!C13) -> 7987627 | V38: =C38+I38+O38 -> 11528295
A39: 4 | B39: BARANG&JASA | C39: =SUM([57]REKAP!$C$39) -> 1910000 | I39: =SUM('RUGI LABA '!C14) -> 280000 | V39: =C39+I39+O39 -> 2190000
A40: 5 | B40: PANGKALAN GAS ELPIJI | C40: =SUM([57]REKAP!$C$40) -> 800000 | I40: =SUM('RUGI LABA '!C10) -> 800000 | V40: =C40+I40+O40 -> 1600000
A41: 6 | B41: KETAPANG | V41: =SUM(V36:V40) -> 36432984
...

Sheet BRILink
B1: BUKU BANTU BRILink
B2: BUMDes SEJAHTERA DESA BATUPUTE KEC-SOPPENG RIAJA
B3: KABUPATEN BARRU TAHUN 2026
B4: Bulan AGUSTUS 2026
B5: No | C5: Transaksi | D5: Tgl Transaksi | E5: Jumlah
B7: Saldo Awal Sebelum Tutup Buku
B8: Saldo S/d Bulan lalu ( Thn Berjalan )
B9: 1 | C9: Penarikan | D9: 31/8/2026 | E9: 2945000
B10: 2 | C10: Transfer | D10: =D9 -> 31/8/2026 | E10: 1083000
B11: 3 | C11: ATM Sendiri | D11: =D10 -> 31/8/2026 | E11: 20000
B12: 5 | C12: Materai | D12: =D11 -> 31/8/2026
B13: 6 | C13: Fee bank | D13: =D12 -> 31/8/2026 | E13: 713870
B14: Total Transaksi Bulan ini | E14: =SUM(E9:E13) -> 4761870
B15: Gaji Karyawan brilink | E15: 1617000
B16: Total Transaksi Bulan ini | E16: =SUM(E14-E15) -> 3144870
B18: PENGURUS BUMDes SEJAHTERA
B19: DESA BATUPUTE KEC.SOPPENG RIAJA KAB.BARRU
B22: DIREKTUR | E22: BENDAHARA
B27: WAWAN DARMAWAN | E27: IRMA ALISA, ST

Sheet BIAYA OPERASIONAL
A2: BADAN USAHA MILIK DESA BUMDesa SEJAHTERA
A3: BIAYA OPERASIONAL BULAN AGUSTUS 2026
A4: Desa | C4: : Batupute Kec.Soppeng Riaja
A5: Kabupaten | C5: : Barru
A6: Provinsi | C6: : Sulsel
A7: No | B7: Uraian | C7: JMLH BRG | D7: SATUAN | E7: HARGA SATUAN | F7: JUMLAH HARGA
A8: 1 | B8: Oli untuk mesin pompa air | C8: 1 | D8: kali | E8: 480000 | F8: =SUM(E8*C8) -> 480000
A9: 2 | B9: gommo untuk mesin pompa | C9: 1 | D9: kali | E9: 200000 | F9: =SUM(E9*C9) -> 200000
A10: 3 | B10: Transport pak desa ke makassar (briliank) | C10: 1 | D10: kali | E10: 700000 | F10: =SUM(E10*C10) -> 700000
A11: 4 | B11: Transport kemkassr untuk toko bengkel | C11: 1 | D11: kali | E11: 1300000 | F11: =SUM(E11*C11) -> 1300000
A12: 5 | B12: Revarasi mesin pompa | C12: 1 | D12: kali | E12: 530000 | F12: =SUM(E12*C12) -> 530000
A13: 6 | B13: Biaya angkut mesin | C13: 1 | D13: kali | E13: 300000 | F13: =SUM(E13*C13) -> 300000
A14: 7 | B14: Sponsor 17 agustusan dusun awerange | C14: 1 | D14: kali | E14: 400000 | F14: =SUM(E14*C14) -> 400000
A15: 8 | B15: BIaya cetak rekening koran | C15: 1 | D15: kali | E15: 40000 | F15: =SUM(E15*C15) -> 40000
A16: 9 | B16: ATK | C16: 1 | D16: kali | E16: 41000 | F16: =SUM(E16*C16) -> 41000
A17: 10 | B17: Admin bank | C17: 1 | D17: kali | E17: 4000 | F17: =SUM(E17*C17) -> 4000
A18: 11 | B18: atk | C18: 1 | D18: kali | E18: 65000 | F18: =SUM(E18*C18) -> 65000
A19: 12 | B19: Rapat internal | C19: 1 | D19: kali | E19: 60000 | F19: =SUM(E19*C19) -> 60000
B20: JUMLAH | F20: =SUM(F8:F19) -> 4120000
A21: PENGURUS BUMDes SEJAHTERA
A22: DESA BATUPUTE KEC.SOPPENG RIAJA
D24: Dibuat Oleh
B25: DIREKTUR | D25: BENDAHARA BUMDes Sejahtera
B29: WAWAN DARMAWAN | D29: IRMA ALISA, S.T

Sheet Gaji Pengawas
B2: DAFTAR INSENTIF PENGAWAS DAN PENASEHAT BUMDesa SEJAHTERA
B3: DESA BATUPUTE KECAMATAN SOPPENG RIAJA
B4: KABUPATEN BARRU
B5: BULAN : AGUSTUS 2026
B6: NO | C6: Nama | D6: JABATAN | E6: JUMLAH | F6: Tanda Tangan
B8: 1 | C8: JAHARUDDIN | D8: Penasehat | E8: 1600000 | F8: 1.
B9: 2 | C9: NURDALIAH | D9: Ketua Pengawas | E9: 660000 | F9: 2.
B10: 3 | C10: SUKARDI, S.E | D10: Anggota Pengawas | E10: 440000 | F10: 3
B11: JUMLAH | E11: =SUM(E8:E10) -> 2700000
B13: MENGETAHUI
B14: PENGURUS BUMDes SEJAHTERA
B20: WAWAN DARMAWAN | E20: IRMA ALISA
B21: Direktur | E21: Bendahara BUMDes Sejahtera

Sheet Gaji Pegawai
B2: DAFTAR INSENTIF PENGURUS BUMDesa SEJAHTERA
B3: DESA BATUPUTE KECAMATAN SOPPENG RIAJA
B4: KABUPATEN BARRU
B5: Bulan : AGUSTUS 2026
B6: No | C6: Nama | D6: JABATAN | E6: JUMLAH | F6: Tanda Tangan
B8: 1 | C8: WAWAN DARMAWAN | D8: DIREKTUR | E8: 1600000 | F8: 1
B9: 2 | C9: AMELIAH | D9: SEKRETARIS | E9: 1550000 | F9: 2.
B10: 3 | C10: IRMA ALISA, ST | D10: BENDAHARA | E10: 1600000 | F10: 3.
B11: 4 | C11: SURIANI YUNUS | D11: K.UNIT | E11: 1550000 | F11: 4.
B12: 5 | C12: FATMAWATI | D12: K.UNIT | E12: 1550000 | F12: 5
B13: JUMLAH | E13: =SUM(E8:E12) -> 7850000
B15: MENGETAHUI
B16: PENGURUS BUMDes SEJAHTERA
B22: WAWAN DARMAWAN | E22: IRMA ALISA
B23: Direktur | E23: Bendahara BUMDes Sejahtera

Sheet TOKO BENGKEL
A1: LAPORAN KEUANGAN KEPALA UNIT USAHA ALAT TOKO BENGKEL BUMDes SEJAHTERA
A2: DESA BATUPUTE KEC.SOPPENG RIAJA KAB.BARRU BULAN AGUSTUS 2026
A4: NO | B4: TGL | C4: NAMA BARANG | D4: STOK BARANG | J4: TRANSAKSI | M4: KEUNTUNGAN | N4: BUMDES 70% | O4: KANIT 30%
D5: LAMA | E5: LAKU | F5: SISA STOK | G5: SAT | H5: HARGA BELI | J5: PENJUALAN
H6: SAT | I6: JML | J6: JML SAT | K6: HARGA SAT | L6: JML HARGA
A7: 1 | B7: 46002 | C7: MAXXIS DIAMOND 90/90-14 | D7: 3 | F7: =SUM(D7-E7) -> 3 | H7: 256880 | I7: =SUM(E7*H7) -> 0 | K7: 295000 | L7: =SUM(J7*K7) -> 0 | M7: =SUM(L7-I7) -> 0 | N7: =SUM(M7*70%) -> 0 | O7: =SUM(M7*30%) -> 0
A8: 2 | B8: 46002 | C8: MAXXIS VICTRA 110/70-13 | D8: 3 | F8: =SUM(D8-E8) -> 3 | H8: 312360 | I8: =SUM(E8*H8) -> 0 | K8: 347000 | L8: =SUM(J8*K8) -> 0 | M8: =SUM(L8-I8) -> 0 | N8: =SUM(M8*70%) -> 0 | O8: =SUM(M8*30%) -> 0
A9: 3 | B9: 46002 | C9: MAXXIS VICTRA 120/70-13 | D9: 3 | F9: =SUM(D9-E9) -> 3 | H9: 336680 | I9: =SUM(E9*H9) -> 0 | K9: 370000 | L9: =SUM(J9*K9) -> 0 | M9: =SUM(L9-I9) -> 0 | N9: =SUM(M9*70%) -> 0 | O9: =SUM(M9*30%) -> 0
A10: 4 | B10: 46002 | C10: MAXXIS VICTRA 150/70-13 | D10: 2 | F10: =SUM(D10-E10) -> 2 | H10: 409040 | I10: =SUM(E10*H10) -> 0 | K10: 450000 | L10: =SUM(J10*K10) -> 0 | M10: =SUM(L10-I10) -> 0 | N10: =SUM(M10*70%) -> 0 | O10: =SUM(M10*30%) -> 0
A11: 5 | B11: 46002 | C11: FRD EVO 80/80-14 | D11: 4 | E11: 2 | F11: =SUM(D11-E11) -> 2 | H11: 181040 | I11: =SUM(E11*H11) -> 362080 | J11: 2 | K11: 215000 | L11: =SUM(J11*K11) -> 430000 | M11: =SUM(L11-I11) -> 67920 | N11: =SUM(M11*70%) -> 47544 | O11: =SUM(M11*30%) -> 20376
A12: 6 | B12: 46002 | C12: FRD EVO 90/80-14 | D12: 2 | F12: =SUM(D12-E12) -> 2 | H12: 216080 | I12: =SUM(E12*H12) -> 0 | K12: 260000 | L12: =SUM(J12*K12) -> 0 | M12: =SUM(L12-I12) -> 0 | N12: =SUM(M12*70%) -> 0 | O12: =SUM(M12*30%) -> 0
A13: 7 | B13: 46002 | C13: FRD EVO 80/90-14 | D13: 3 | F13: =SUM(D13-E13) -> 3 | H13: 188340 | I13: =SUM(E13*H13) -> 0 | K13: 230000 | L13: =SUM(J13*K13) -> 0 | M13: =SUM(L13-I13) -> 0 | N13: =SUM(M13*70%) -> 0 | O13: =SUM(M13*30%) -> 0
A14: 8 | B14: 46002 | C14: FRD EVO 90/90-14 | D14: 4 | F14: =SUM(D14-E14) -> 4 | H14: 218270 | I14: =SUM(E14*H14) -> 0 | K14: 245000 | L14: =SUM(J14*K14) -> 0 | M14: =SUM(L14-I14) -> 0 | N14: =SUM(M14*70%) -> 0 | O14: =SUM(M14*30%) -> 0
A15: 9 | B15: 46002 | C15: FRD EVO 100/80-14 | D15: 5 | F15: =SUM(D15-E15) -> 5 | H15: 248200 | I15: =SUM(E15*H15) -> 0 | K15: 275000 | L15: =SUM(J15*K15) -> 0 | M15: =SUM(L15-I15) -> 0 | N15: =SUM(M15*70%) -> 0 | O15: =SUM(M15*30%) -> 0
A16: 10 | B16: 46002 | C16: VAN BELT K44 | D16: 9 | F16: =SUM(D16-E16) -> 9 | H16: 57500 | I16: =SUM(E16*H16) -> 0 | K16: 77000 | L16: =SUM(J16*K16) -> 0 | M16: =SUM(L16-I16) -> 0 | N16: =SUM(M16*70%) -> 0 | O16: =SUM(M16*30%) -> 0
A17: 11 | B17: 46002 | C17: VAN BELT KVY | D17: 10 | F17: =SUM(D17-E17) -> 10 | H17: 57500 | I17: =SUM(E17*H17) -> 0 | K17: 77000 | L17: =SUM(J17*K17) -> 0 | M17: =SUM(L17-I17) -> 0 | N17: =SUM(M17*70%) -> 0 | O17: =SUM(M17*30%) -> 0
A18: 12 | B18: 46002 | C18: VAN BELT K16 | D18: 10 | F18: =SUM(D18-E18) -> 10 | H18: 120000 | I18: =SUM(E18*H18) -> 0 | K18: 145000 | L18: =SUM(J18*K18) -> 0 | M18: =SUM(L18-I18) -> 0 | N18: =SUM(M18*70%) -> 0 | O18: =SUM(M18*30%) -> 0
A19: 13 | B19: 46002 | C19: VAN BELT KZL | D19: 10 | E19: 1 | F19: =SUM(D19-E19) -> 9 | H19: 62000 | I19: =SUM(E19*H19) -> 62000 | J19: 1 | K19: 80000 | L19: =SUM(J19*K19) -> 80000 | M19: =SUM(L19-I19) -> 18000 | N19: =SUM(M19*70%) -> 12600 | O19: =SUM(M19*30%) -> 5400
A20: 14 | B20: 46002 | C20: VAN BELT K25 | D20: 9 | F20: =SUM(D20-E20) -> 9 | H20: 99000 | I20: =SUM(E20*H20) -> 0 | K20: 120000 | L20: =SUM(J20*K20) -> 0 | M20: =SUM(L20-I20) -> 0 | N20: =SUM(M20*70%) -> 0 | O20: =SUM(M20*30%) -> 0
A21: 15 | B21: 46002 | C21: VAN BELT K9F | D21: 10 | F21: =SUM(D21-E21) -> 10 | H21: 96000 | I21: =SUM(E21*H21) -> 0 | K21: 120000 | L21: =SUM(J21*K21) -> 0 | M21: =SUM(L21-I21) -> 0 | N21: =SUM(M21*70%) -> 0 | O21: =SUM(M21*30%) -> 0
A22: 16 | B22: 46002 | C22: VAN BELT K86 | D22: 10 | F22: =SUM(D22-E22) -> 10 | H22: 77500 | I22: =SUM(E22*H22) -> 0 | K22: 100000 | L22: =SUM(J22*K22) -> 0 | M22: =SUM(L22-I22) -> 0 | N22: =SUM(M22*70%) -> 0 | O22: =SUM(M22*30%) -> 0
A23: 17 | B23: 46002 | C23: VAN BELT KOJ | D23: 9 | F23: =SUM(D23-E23) -> 9 | H23: 79000 | I23: =SUM(E23*H23) -> 0 | K23: 115000 | L23: =SUM(J23*K23) -> 0 | M23: =SUM(L23-I23) -> 0 | N23: =SUM(M23*70%) -> 0 | O23: =SUM(M23*30%) -> 0
A24: 18 | B24: 46002 | C24: KAMPAS CAKRAM DEPAN MS | D24: 16 | F24: =SUM(D24-E24) -> 16 | H24: 10000 | I24: =SUM(E24*H24) -> 0 | K24: 15000 | L24: =SUM(J24*K24) -> 0 | M24: =SUM(L24-I24) -> 0 | N24: =SUM(M24*70%) -> 0 | O24: =SUM(M24*30%) -> 0
A25: 19 | B25: 46002 | C25: KAMPAS CAKRAM DEPAN MIO | D25: 19 | F25: =SUM(D25-E25) -> 19 | H25: 10000 | I25: =SUM(E25*H25) -> 0 | K25: 15000 | L25: =SUM(J25*K25) -> 0 | M25: =SUM(L25-I25) -> 0 | N25: =SUM(M25*70%) -> 0 | O25: =SUM(M25*30%) -> 0
A26: 20 | B26: 46002 | C26: KAMPAS CAKRAM DEPAN BEAT | D26: 19 | F26: =SUM(D26-E26) -> 19 | H26: 10000 | I26: =SUM(E26*H26) -> 0 | K26: 15000 | L26: =SUM(J26*K26) -> 0 | M26: =SUM(L26-I26) -> 0 | N26: =SUM(M26*70%) -> 0 | O26: =SUM(M26*30%) -> 0
A27: 21 | B27: 46002 | C27: KAMPAS CAKRAM DEPAN VARIO | D27: 20 | E27: 1 | F27: =SUM(D27-E27) -> 19 | H27: 10000 | I27: =SUM(E27*H27) -> 10000 | J27: 1 | K27: 15000 | L27: =SUM(J27*K27) -> 15000 | M27: =SUM(L27-I27) -> 5000 | N27: =SUM(M27*70%) -> 3500 | O27: =SUM(M27*30%) -> 1500
A28: 22 | B28: 46002 | C28: KAMPAS CAKRAM DEPAN SATRIA/SUPRA | D28: 19 | F28: =SUM(D28-E28) -> 19 | H28: 10000 | I28: =SUM(E28*H28) -> 0 | K28: 15000 | L28: =SUM(J28*K28) -> 0 | M28: =SUM(L28-I28) -> 0 | N28: =SUM(M28*70%) -> 0 | O28: =SUM(M28*30%) -> 0
A29: 23 | B29: 46002 | C29: KAMPAS CAKRAM BELAKANG SATRIA | D29: 17 | F29: =SUM(D29-E29) -> 17 | H29: 25000 | I29: =SUM(E29*H29) -> 0 | K29: 37000 | L29: =SUM(J29*K29) -> 0 | M29: =SUM(L29-I29) -> 0 | N29: =SUM(M29*70%) -> 0 | O29: =SUM(M29*30%) -> 0
A30: 24 | B30: 46002 | C30: KAMPAS BELAKANG MIO | D30: 18 | F30: =SUM(D30-E30) -> 18 | H30: 10000 | I30: =SUM(E30*H30) -> 0 | K30: 15000 | L30: =SUM(J30*K30) -> 0 | M30: =SUM(L30-I30) -> 0 | N30: =SUM(M30*70%) -> 0 | O30: =SUM(M30*30%) -> 0
A31: 25 | B31: 46002 | C31: KAMPAS BELAKANG JUPITER/FIZ R | D31: 11 | F31: =SUM(D31-E31) -> 11 | H31: 25000 | I31: =SUM(E31*H31) -> 0 | K31: 40000 | L31: =SUM(J31*K31) -> 0 | M31: =SUM(L31-I31) -> 0 | N31: =SUM(M31*70%) -> 0 | O31: =SUM(M31*30%) -> 0
A32: 26 | B32: 46002 | C32: KAMPAS BELAKANG BEAT | D32: 19 | F32: =SUM(D32-E32) -> 19 | H32: 10000 | I32: =SUM(E32*H32) -> 0 | K32: 15000 | L32: =SUM(J32*K32) -> 0 | M32: =SUM(L32-I32) -> 0 | N32: =SUM(M32*70%) -> 0 | O32: =SUM(M32*30%) -> 0
A33: 27 | B33: 46002 | C33: KARET MASTER MIO | D33: 5 | F33: =SUM(D33-E33) -> 5 | H33: 12000 | I33: =SUM(E33*H33) -> 0 | K33: 17000 | L33: =SUM(J33*K33) -> 0 | M33: =SUM(L33-I33) -> 0 | N33: =SUM(M33*70%) -> 0 | O33: =SUM(M33*30%) -> 0
A34: 28 | B34: 46002 | C34: KARET MASTER BEAT | D34: 6 | F34: =SUM(D34-E34) -> 6 | H34: 12000 | I34: =SUM(E34*H34) -> 0 | K34: 17000 | L34: =SUM(J34*K34) -> 0 | M34: =SUM(L34-I34) -> 0 | N34: =SUM(M34*70%) -> 0 | O34: =SUM(M34*30%) -> 0
A35: 29 | B35: 46002 | C35: KARET MASTER SUPRA | D35: 6 | F35: =SUM(D35-E35) -> 6 | H35: 12000 | I35: =SUM(E35*H35) -> 0 | K35: 17000 | L35: =SUM(J35*K35) -> 0 | M35: =SUM(L35-I35) -> 0 | N35: =SUM(M35*70%) -> 0 | O35: =SUM(M35*30%) -> 0
A36: 30 | B36: 46002 | C36: LAHAR 6201 | D36: 43 | E36: 1 | F36: =SUM(D36-E36) -> 42 | H36: 30000 | I36: =SUM(E36*H36) -> 30000 | J36: 1 | K36: 35000 | L36: =SUM(J36*K36) -> 35000 | M36: =SUM(L36-I36) -> 5000 | N36: =SUM(M36*70%) -> 3500 | O36: =SUM(M36*30%) -> 1500
A37: 31 | B37: 46002 | C37: LAHAR 6301 | D37: 46 | F37: =SUM(D37-E37) -> 46 | H37: 30000 | I37: =SUM(E37*H37) -> 0 | K37: 35000 | L37: =SUM(J37*K37) -> 0 | M37: =SUM(L37-I37) -> 0 | N37: =SUM(M37*70%) -> 0 | O37: =SUM(M37*30%) -> 0
A38: 32 | B38: 46002 | C38: LAHAR 6300 | D38: 22 | E38: 4 | F38: =SUM(D38-E38) -> 18 | H38: 30000 | I38: =SUM(E38*H38) -> 120000 | J38: 4 | K38: 35000 | L38: =SUM(J38*K38) -> 140000 | M38: =SUM(L38-I38) -> 20000 | N38: =SUM(M38*70%) -> 14000 | O38: =SUM(M38*30%) -> 6000
A39: 33 | B39: 46002 | C39: LAHAR 6203 | D39: 47 | F39: =SUM(D39-E39) -> 47 | H39: 35000 | I39: =SUM(E39*H39) -> 0 | K39: 40000 | L39: =SUM(J39*K39) -> 0 | M39: =SUM(L39-I39) -> 0 | N39: =SUM(M39*70%) -> 0 | O39: =SUM(M39*30%) -> 0
A40: 34 | B40: 46002 | C40: LAHAR 6004 | D40: 46 | F40: =SUM(D40-E40) -> 46 | H40: 41000 | I40: =SUM(E40*H40) -> 0 | K40: 46000 | L40: =SUM(J40*K40) -> 0 | M40: =SUM(L40-I40) -> 0 | N40: =SUM(M40*70%) -> 0 | O40: =SUM(M40*30%) -> 0
A41: 35 | B41: 46002 | C41: BALON DEPAN | D41: 29 | F41: =SUM(D41-E41) -> 29 | H41: 2500 | I41: =SUM(E41*H41) -> 0 | K41: 8000 | L41: =SUM(J41*K41) -> 0 | M41: =SUM(L41-I41) -> 0 | N41: =SUM(M41*70%) -> 0 | O41: =SUM(M41*30%) -> 0
...

Sheet INVENTARIS
A1: ='[43]Data Pokok'!A2 -> BADAN USAHA MILIK DESA BATUPUTE
A2: ='[43]Data Pokok'!C74 -> DAFTAR INVENTARIS
A3: BULAN DESEMBER
A5: ='[43]Data Pokok'!A10 -> Desa / Kecamatan | C5: =": "&'[43]Data Pokok'!D10 -> : Batupute
A6: ='[43]Data Pokok'!A11 -> Kabupaten | C6: =": "&'[43]Data Pokok'!D11 -> : BARRU
A7: ='[43]Data Pokok'!A12 -> Provinsi | C7: =": "&'[43]Data Pokok'!D12 -> : SULAWESI SELATAN
A9: No | B9: Jenis Inventaris | C9: Tanggal Pembelian | D9: Bukti Pembelian | E9: Unit | F9: Harga Satuan | G9: Harga Perolehan | H9: Umur Ekonomis | I9: Penyusutan / Bulan | J9: akumulasi penyusutan sd 31 desmber 2024 | K9: Penyusutan tahun 2025 | W9: TOTAL PENYUSUTAN | X9: Penyusutan per- | Y9: SISA PEROLEHAN
K10: JANUARI | L10: FEBRUARI | M10: MARET | N10: APRIL | O10: MEI | P10: JUNI | Q10: JULI | R10: AGUSTUS | S10: SEPTEMBER | T10: OKTOBER | U10: NOVEMBER | V10: DECEMBER
B11: Bangunan/gedung dan Prasarana | H11: 240
B14: Mesin dan Inventaris | H14: 60
A15: 1 | B15: Molen | C15: 28-8-2025 | D15: Nota | E15: 1 | F15: 12500000 | G15: =SUM(E15*F15) -> 12500000 | H15: 60 | I15: =SUM(G15/H15) -> 208333.33 | R15: =I15 -> 208333.33 | S15: =SUM(I15) -> 208333.33 | T15: =SUM(I15) -> 208333.33 | U15: =SUM(I15) -> 208333.33 | V15: =SUM(I15) -> 208333.33 | W15: =SUM(K15:V15) -> 1041666.7 | X15: =H15-5 -> 55
A16: 2 | B16: Mesin bor | C16: 28-8-2025 | D16: Nota | E16: 1 | F16: 35000000 | G16: =SUM(E16*F16) -> 35000000 | H16: 60 | I16: =SUM(G16/H16) -> 583333.33 | R16: =I16 -> 583333.33 | S16: =SUM(I16) -> 583333.33 | T16: =SUM(I16) -> 583333.33 | U16: =SUM(I16) -> 583333.33 | V16: =SUM(I16) -> 583333.33 | W16: =SUM(K16:V16) -> 2916666.7 | X16: =H16-5 -> 55
